BEGIN:VCALENDAR
VERSION:2.0
PRODID:SchoolNow
CALSCALE:GREGORIAN
BEGIN:VEVENT
UID:beb1eb4e-8665-11ef-a864-0a58a9feac02
DTSTAMP:20241125T184408Z
SUMMARY:CDD Board Meeting - Oct. 2024 - Cancelled
LOCATION:3204 Heartleaf Ave. E.\, Panama City\, FL 32405
URL;VALUE=URI:https://www.sweetbaycommcdd2.com/calendar/6790758/cdd-board-m
 eeting-oct-2024-cancelled
DTSTART:20241018T150000Z
DTEND:20241018T160000Z
END:VEVENT
END:VCALENDAR
