BEGIN:VCALENDAR
VERSION:2.0
PRODID:SchoolNow
CALSCALE:GREGORIAN
BEGIN:VEVENT
UID:de23c2ea-8665-11ef-9c29-0affd4bf11db
DTSTAMP:20241125T184354Z
SUMMARY:CDD Board Meeting - Nov. 2024 - CANCELLED
LOCATION:3204 Heartleaf Ave. E.\, Panama City\, FL 32405
URL;VALUE=URI:https://www.sweetbaycommcdd2.com/calendar/6790761/cdd-board-m
 eeting-nov-2024
DTSTART:20241115T160000Z
DTEND:20241115T170000Z
END:VEVENT
END:VCALENDAR
