BEGIN:VCALENDAR
VERSION:2.0
PRODID:SchoolNow
CALSCALE:GREGORIAN
BEGIN:VEVENT
UID:fb93aff2-8665-11ef-aef2-0a58a9feac02
DTSTAMP:20241206T205031Z
SUMMARY:CDD Board Meeting - Dec. 2024
LOCATION:3204 Heartleaf Ave. E.\, Panama City\, FL 32405
URL;VALUE=URI:https://www.sweetbaycommcdd2.com/calendar/6790762/cdd-board-m
 eeting-dec-2024
DTSTART:20241213T190000Z
DTEND:20241213T200000Z
ATTACH;FILENAME=2024-12-13 Agenda Package.pdf;FMTTYPE=application/pdf:https
 ://campussuite-storage.s3.amazonaws.com/prod/1559224/b5ea6970-84bf-11ef-9c
 d3-0affe59304ef/2888142/83ff9e5c-b413-11ef-b8b8-0a58a9feac02/file/2024-12-
 13 Agenda Package.pdf
END:VEVENT
END:VCALENDAR
