BEGIN:VCALENDAR
VERSION:2.0
PRODID:SchoolNow
CALSCALE:GREGORIAN
BEGIN:VEVENT
UID:16f09602-8666-11ef-94cb-0a58a9feac02
DTSTAMP:20250110T181816Z
SUMMARY:CDD Board Meeting - Jan. 2025 - CANCELLED
LOCATION:3204 Heartleaf Ave. E.\, Panama City\, FL 32405
URL;VALUE=URI:https://www.sweetbaycommcdd2.com/calendar/6790763/cdd-board-m
 eeting-jan-2025
DTSTART:20250117T160000Z
DTEND:20250117T170000Z
END:VEVENT
END:VCALENDAR
