BEGIN:VCALENDAR
VERSION:2.0
PRODID:SchoolNow
CALSCALE:GREGORIAN
BEGIN:VEVENT
UID:31fec284-8666-11ef-9ae7-0a58a9feac02
DTSTAMP:20250214T214209Z
SUMMARY:CDD Board Meeting - Feb. 2025
LOCATION:3204 Heartleaf Ave. E.\, Panama City\, FL 32405
URL;VALUE=URI:https://www.sweetbaycommcdd2.com/calendar/6790764/cdd-board-m
 eeting-feb-2025
DTSTART:20250221T160000Z
DTEND:20250221T170000Z
ATTACH;FILENAME=2025-02-21 Agenda Package.pdf;FMTTYPE=application/pdf:https
 ://campussuite-storage.s3.amazonaws.com/prod/1559224/b5ea6970-84bf-11ef-9c
 d3-0affe59304ef/2916200/4d557184-eb1c-11ef-90c5-0a58a9feac02/file/2025-02-
 21 Agenda Package.pdf
END:VEVENT
END:VCALENDAR
