BEGIN:VCALENDAR
VERSION:2.0
PRODID:SchoolNow
CALSCALE:GREGORIAN
BEGIN:VEVENT
UID:4aeeea44-8666-11ef-8586-0a58a9feac02
DTSTAMP:20250317T151834Z
SUMMARY:CDD Board Meeting - Mar. 2025 - CANCELLED
LOCATION:3204 Heartleaf Ave. E.\, Panama City\, FL 32405
URL;VALUE=URI:https://www.sweetbaycommcdd2.com/calendar/6790765/cdd-board-m
 eeting-mar-2025
DTSTART:20250321T150000Z
DTEND:20250321T160000Z
END:VEVENT
END:VCALENDAR
