BEGIN:VCALENDAR
VERSION:2.0
PRODID:SchoolNow
CALSCALE:GREGORIAN
BEGIN:VEVENT
UID:62d22fae-8666-11ef-8a91-025a56834d95
DTSTAMP:20250411T142533Z
SUMMARY:CDD Board Meeting - Apr. 2025 - CANCELLED
LOCATION:3204 Heartleaf Ave. E.\, Panama City\, FL 32405
URL;VALUE=URI:https://www.sweetbaycommcdd2.com/calendar/6790766/cdd-board-m
 eeting-apr-2025
DTSTART:20250418T150000Z
DTEND:20250418T160000Z
END:VEVENT
END:VCALENDAR
