BEGIN:VCALENDAR
VERSION:2.0
PRODID:SchoolNow
CALSCALE:GREGORIAN
BEGIN:VEVENT
UID:7e26f956-8666-11ef-be93-02e7b8d7b199
DTSTAMP:20250514T211841Z
SUMMARY:CDD Board Meeting - May 2025
LOCATION:3204 Heartleaf Ave. E.\, Panama City\, FL 32405
URL;VALUE=URI:https://www.sweetbaycommcdd2.com/calendar/6790767/cdd-board-m
 eeting-may-2025
DTSTART:20250516T150000Z
DTEND:20250516T160000Z
ATTACH;FILENAME=2025-05-16 Main Agenda Package.pdf;FMTTYPE=application/pdf:
 https://campussuite-storage.s3.amazonaws.com/prod/1559224/b5ea6970-84bf-11
 ef-9cd3-0affe59304ef/2954090/cead8038-3107-11f0-99fa-0e060aa23985/file/202
 5-05-16 Main Agenda Package.pdf
ATTACH;FILENAME=2025-05-16 CD 2 Agenda Package.pdf;FMTTYPE=application/pdf:
 https://campussuite-storage.s3.amazonaws.com/prod/1559224/b5ea6970-84bf-11
 ef-9cd3-0affe59304ef/2954099/b0bb569e-3108-11f0-adb9-0a58a9feac02/file/202
 5-05-16 CD 2 Agenda Package.pdf
END:VEVENT
END:VCALENDAR
