BEGIN:VCALENDAR
VERSION:2.0
PRODID:SchoolNow
CALSCALE:GREGORIAN
BEGIN:VEVENT
UID:9aa51bd0-8666-11ef-bd4a-025a25a6f86f
DTSTAMP:20250618T202155Z
SUMMARY:CDD Board Meeting - Jun. 2025
LOCATION:3204 Heartleaf Ave. E.\, Panama City\, FL 32405
URL;VALUE=URI:https://www.sweetbaycommcdd2.com/calendar/6790768/cdd-board-m
 eeting-jun-2025
DTSTART:20250620T150000Z
DTEND:20250620T160000Z
ATTACH;FILENAME=2025-06-20 Agenda Package.pdf;FMTTYPE=application/pdf:https
 ://campussuite-storage.s3.amazonaws.com/prod/1559224/b5ea6970-84bf-11ef-9c
 d3-0affe59304ef/2970881/ce2236e6-4c81-11f0-8e7b-0e8bf55b29ab/file/2025-06-
 20 Agenda Package.pdf
ATTACH;FILENAME=2025-06-20 Commercial CDD 2 Agenda Package.pdf;FMTTYPE=appl
 ication/pdf:https://campussuite-storage.s3.amazonaws.com/prod/1559224/b5ea
 6970-84bf-11ef-9cd3-0affe59304ef/2970880/ce21f096-4c81-11f0-961e-0e8bf55b2
 9ab/file/2025-06-20 Commercial CDD 2 Agenda Package.pdf
END:VEVENT
END:VCALENDAR
