BEGIN:VCALENDAR
VERSION:2.0
PRODID:SchoolNow
CALSCALE:GREGORIAN
BEGIN:VEVENT
UID:acf91fe8-8666-11ef-b2cf-0a58a9feac02
DTSTAMP:20250711T160833Z
SUMMARY:CDD Board Meeting - Jul. 2025 - CANCELLED
LOCATION:3204 Heartleaf Ave. E.\, Panama City\, FL 32405
URL;VALUE=URI:https://www.sweetbaycommcdd2.com/calendar/6790769/cdd-board-m
 eeting-jul-2025
DTSTART:20250718T150000Z
DTEND:20250718T160000Z
END:VEVENT
END:VCALENDAR
