BEGIN:VCALENDAR
VERSION:2.0
PRODID:SchoolNow
CALSCALE:GREGORIAN
BEGIN:VEVENT
UID:c01166e4-8666-11ef-bcf1-0eeec7c90473
DTSTAMP:20250812T194227Z
SUMMARY:CDD Board Meeting + Budget Public Hearing - Aug. 2025
LOCATION:3204 Heartleaf Ave. E.\, Panama City\, FL 32405
URL;VALUE=URI:https://www.sweetbaycommcdd2.com/calendar/6790770/cdd-board-m
 eeting-aug-2025
DTSTART:20250815T150000Z
DTEND:20250815T160000Z
ATTACH;FILENAME=2025-08-15 Main Agenda Package.pdf;FMTTYPE=application/pdf:
 https://campussuite-storage.s3.amazonaws.com/prod/1559224/b5ea6970-84bf-11
 ef-9cd3-0affe59304ef/2990380/233d6206-749e-11f0-8a52-0affd7b7bcdb/file/202
 5-08-15 Main Agenda Package.pdf
ATTACH;FILENAME=2025-08-15 CD2 Agenda Package.pdf;FMTTYPE=application/pdf:h
 ttps://campussuite-storage.s3.amazonaws.com/prod/1559224/b5ea6970-84bf-11e
 f-9cd3-0affe59304ef/2991915/17bb8110-77b4-11f0-9fad-0a58a9feac02/file/2025
 -08-15 CD2 Agenda Package.pdf
END:VEVENT
END:VCALENDAR
