BEGIN:VCALENDAR
VERSION:2.0
PRODID:SchoolNow
CALSCALE:GREGORIAN
BEGIN:VEVENT
UID:d3c562ee-8666-11ef-b47a-0a58a9feac02
DTSTAMP:20250912T140621Z
SUMMARY:CDD Board Meeting - Sept. 2025 - CANCELLED
LOCATION:3204 Heartleaf Ave. E.\, Panama City\, FL 32405
URL;VALUE=URI:https://www.sweetbaycommcdd2.com/calendar/6790771/cdd-board-m
 eeting-sept-2025
DTSTART:20250919T150000Z
DTEND:20250919T160000Z
END:VEVENT
END:VCALENDAR
