BEGIN:VCALENDAR
VERSION:2.0
PRODID:SchoolNow
CALSCALE:GREGORIAN
BEGIN:VEVENT
UID:e3aaa66c-8433-11f0-ab5c-0eaa02947e27
DTSTAMP:20251114T153535Z
SUMMARY:CDD Board Meeting - Nov. 2025 - CANCELLED
LOCATION:3204 Heartleaf Ave. E.\, Panama City\, FL 32405
URL;VALUE=URI:https://www.sweetbaycommcdd2.com/calendar/8554198/cdd-board-m
 eeting-nov-2025
DTSTART:20251121T160000Z
DTEND:20251121T170000Z
END:VEVENT
END:VCALENDAR
