BEGIN:VCALENDAR
VERSION:2.0
PRODID:SchoolNow
CALSCALE:GREGORIAN
BEGIN:VEVENT
UID:f5b34454-8433-11f0-8edb-0affe63eb943
DTSTAMP:20260128T225612Z
SUMMARY:CDD Board Meeting - Jan. 2026
LOCATION:3204 Heartleaf Ave. E.\, Panama City\, FL 32405
URL;VALUE=URI:https://www.sweetbaycommcdd2.com/calendar/8554200/cdd-board-m
 eeting-jan-2026
DTSTART:20260130T160000Z
DTEND:20260130T170000Z
ATTACH;FILENAME=2026-01-30 CD2 Revised Agenda Package.pdf;FMTTYPE=applicati
 on/pdf:https://campussuite-storage.s3.amazonaws.com/prod/1559224/b5ea6970-
 84bf-11ef-9cd3-0affe59304ef/3065051/15d43594-fc99-11f0-9e6b-0a58a9feac02/f
 ile/2026-01-30 CD2 Revised Agenda Package.pdf
ATTACH;FILENAME=2026-01-30 Revised Agenda Package.pdf;FMTTYPE=application/p
 df:https://campussuite-storage.s3.amazonaws.com/prod/1559224/b5ea6970-84bf
 -11ef-9cd3-0affe59304ef/3065060/210b7a96-fc9c-11f0-8cdb-0affd2bf4797/file/
 2026-01-30 Revised Agenda Package.pdf
END:VEVENT
END:VCALENDAR
