BEGIN:VCALENDAR
VERSION:2.0
PRODID:SchoolNow
CALSCALE:GREGORIAN
BEGIN:VEVENT
UID:fd7d87f8-8433-11f0-b148-0affee066179
DTSTAMP:20260225T201723Z
SUMMARY:CDD Board Meeting - Feb. 2026
LOCATION:960 Promenade St\, Panama City\, FL 32405
URL;VALUE=URI:https://www.sweetbaycommcdd2.com/calendar/8554201/cdd-board-m
 eeting-feb-2026
DTSTART:20260227T160000Z
DTEND:20260227T170000Z
ATTACH;FILENAME=2026-02-27 Revised Agenda Package.pdf;FMTTYPE=application/p
 df:https://campussuite-storage.s3.amazonaws.com/prod/1559224/b5ea6970-84bf
 -11ef-9cd3-0affe59304ef/3074389/a974afba-1286-11f1-b12d-0a58a9feac02/file/
 2026-02-27 Revised Agenda Package.pdf
END:VEVENT
END:VCALENDAR
