BEGIN:VCALENDAR
VERSION:2.0
PRODID:SchoolNow
CALSCALE:GREGORIAN
BEGIN:VEVENT
UID:066d5154-8434-11f0-9a96-0a58a9feac02
DTSTAMP:20260318T211718Z
SUMMARY:CDD Board Meeting - Mar. 2026
LOCATION:960 Promenade St\, Panama City\, FL 32405
URL;VALUE=URI:https://www.sweetbaycommcdd2.com/calendar/8554202/cdd-board-m
 eeting-mar-2026
DTSTART:20260320T150000Z
DTEND:20260320T160000Z
ATTACH;FILENAME=2026-03-20 Revised Agenda Package.pdf;FMTTYPE=application/p
 df:https://campussuite-storage.s3.amazonaws.com/prod/1559224/b5ea6970-84bf
 -11ef-9cd3-0affe59304ef/3081175/c3418960-230f-11f1-b7e7-0a58a9feac02/file/
 2026-03-20 Revised Agenda Package.pdf
ATTACH;FILENAME=2026-03-20 CD2 Revised Agenda Package.pdf;FMTTYPE=applicati
 on/pdf:https://campussuite-storage.s3.amazonaws.com/prod/1559224/b5ea6970-
 84bf-11ef-9cd3-0affe59304ef/3081176/c341d65e-230f-11f1-91ed-0a58a9feac02/f
 ile/2026-03-20 CD2 Revised Agenda Package.pdf
END:VEVENT
END:VCALENDAR
