BEGIN:VCALENDAR
VERSION:2.0
PRODID:SchoolNow
CALSCALE:GREGORIAN
BEGIN:VEVENT
UID:26eba278-8434-11f0-857b-0e8b14fcf377
DTSTAMP:20260209T162046Z
SUMMARY:CDD Board Meeting - Jul. 2026
LOCATION:960 Promenade St\, Panama City\, FL 32405
URL;VALUE=URI:https://www.sweetbaycommcdd2.com/calendar/8554206/cdd-board-m
 eeting-jul-2026
DTSTART:20260717T150000Z
DTEND:20260717T160000Z
END:VEVENT
END:VCALENDAR
