BEGIN:VCALENDAR
VERSION:2.0
PRODID:SchoolNow
CALSCALE:GREGORIAN
BEGIN:VEVENT
UID:311666c0-8434-11f0-8867-0affc1bf85c7
DTSTAMP:20260209T162053Z
SUMMARY:CDD Board Meeting - Aug. 2026
LOCATION:960 Promenade St\, Panama City\, FL 32405
URL;VALUE=URI:https://www.sweetbaycommcdd2.com/calendar/8554207/cdd-board-m
 eeting-aug-2026
DTSTART:20260821T150000Z
DTEND:20260821T160000Z
END:VEVENT
END:VCALENDAR
